BEGIN:VCALENDAR
VERSION:2.0
PRODID:-//eventon.com NONSGML v1.0//EN
CALSCALE:GREGORIAN
METHOD:PUBLISH
BEGIN:VEVENT
UID:69e5e06b748a4
DTSTAMP:20260420T081435Z
DTSTART:20260822T233000Z
DTEND:20260823T030000Z
LOCATION:
SUMMARY:All Grown Up
DESCRIPTION:Evening event for 21+\,  Saturday\,  August 22nd from 7:30 pm-1
 1:00 pm! The Kids are alright…but they’re HOME tonight. Rain date Augus
 t 28th. Visit again later for ticket details.\nhttps://funtownsplashtownusa
 .com/events/all-grown-up-copy-2/
URL:https://funtownsplashtownusa.com/events/all-grown-up-copy-2/
END:VEVENT
END:VCALENDAR